BEGIN:VCALENDAR
VERSION:2.0
PRODID:-//wp-events-plugin.com//7.2.3.1//EN
TZID:Europe/Berlin
X-WR-TIMEZONE:Europe/Berlin
BEGIN:VEVENT
UID:66@tonart-mittelrhein.de
DTSTART;TZID=Europe/Berlin:20241210T200000
DTEND;TZID=Europe/Berlin:20241210T220000
DTSTAMP:20241211T084854Z
URL:https://www.tonart-mittelrhein.de/veranstaltungen/vorstandsitzung/
SUMMARY:Vorstandsitzung
DESCRIPTION:
CATEGORIES:sonstige Termine
END:VEVENT
BEGIN:VTIMEZONE
TZID:Europe/Berlin
X-LIC-LOCATION:Europe/Berlin
BEGIN:STANDARD
DTSTART:20241027T020000
TZOFFSETFROM:+0200
TZOFFSETTO:+0100
TZNAME:CET
END:STANDARD
END:VTIMEZONE
END:VCALENDAR