BEGIN:VCALENDAR
VERSION:2.0
PRODID:-//wp-events-plugin.com//7.2.3.1//EN
TZID:Europe/Berlin
X-WR-TIMEZONE:Europe/Berlin
BEGIN:VEVENT
UID:65@tonart-mittelrhein.de
DTSTART;TZID=Europe/Berlin:20250321T193000
DTEND;TZID=Europe/Berlin:20250321T213000
DTSTAMP:20250221T165829Z
URL:https://www.tonart-mittelrhein.de/veranstaltungen/tonfusion-2-0-tonart
 -feat-andante-2/
SUMMARY:TonFusion 2.0 // TonArt feat. Andante
DESCRIPTION:Liebe Freunde des guten Geschmacks\,\n\nwir freuen uns sehr\, f
 ür die zweite Auflage unserer spannenden Konzertreihe geballte Frauen-Pow
 er mit auf die Bühne zu bringen. Mit "Andante" konnten wir vier hervorrag
 enden Musikerinnen aus Boppard für unser Projekt gewinnen und sind glück
 lich\, euch diesen Leckerbissen kredenzen zu können.\n\nDie Proben laufen
  in beiden Ensembles auf Hochtouren und die Vorfreude ist groß. Frank Sch
 aab arrangierte bei einigen Stücken aus dem Gesamtrepertoire gemeinsame P
 assagen\, sodass die Damen von Andante mit den Klangkumpels von TonArt mus
 ikalisch an einigen Stellen verschmelzen werden!\n\nDaneben wird es Musik 
 von Herbert Grönemeyer\, Gloria Gaynor\, Nina Hagen\, Adriano Cellentano\
 , Wir sind Helden\, den Beatles und vielen mehr geben - das alles im typis
 chen TonArt-Sound und den nicht immer zarten Stimmen von Andante.\n\n[ycd_
 countdown id="528"][/ycd_countdown]
CATEGORIES:Auftritt,Konzert
LOCATION:Aula des Kant-Gymnasiums Boppard\, Mainzer Straße 24\, Boppard\, 
 56154\, Deutschland
X-APPLE-STRUCTURED-LOCATION;VALUE=URI;X-ADDRESS=Mainzer Straße 24\, Boppar
 d\, 56154\, Deutschland;X-APPLE-RADIUS=100;X-TITLE=Aula des Kant-Gymnasium
 s Boppard:geo:0,0
END:VEVENT
BEGIN:VTIMEZONE
TZID:Europe/Berlin
X-LIC-LOCATION:Europe/Berlin
BEGIN:STANDARD
DTSTART:20241027T020000
TZOFFSETFROM:+0200
TZOFFSETTO:+0100
TZNAME:CET
END:STANDARD
END:VTIMEZONE
END:VCALENDAR