BEGIN:VCALENDAR
VERSION:2.0
PRODID:-//wp-events-plugin.com//7.2.3.1//EN
TZID:Europe/Berlin
X-WR-TIMEZONE:Europe/Berlin
BEGIN:VEVENT
UID:74@tonart-mittelrhein.de
DTSTART;TZID=Europe/Berlin:20250412T083000
DTEND;TZID=Europe/Berlin:20250412T180000
DTSTAMP:20250324T211731Z
URL:https://www.tonart-mittelrhein.de/veranstaltungen/koeln-tour-2025/
SUMMARY:Köln-Tour 2025
DESCRIPTION:Nach einiger Abstinenz fahren einige Klangkumpels in diesem Jah
 r wieder in die wunderschöne Stadt Köln - neben den Sehenswürdigkeiten 
 dieser Stadt sollen auch die kulinarischen Spezialitäten neu entdeckt wer
 den.\n\nEs verspricht ein toller Tag zu werden!!!
CATEGORIES:sonstige Termine
LOCATION:Köln\, Domplatte\, Köln\, Deutschland
X-APPLE-STRUCTURED-LOCATION;VALUE=URI;X-ADDRESS=Domplatte\, Köln\, Deutsch
 land;X-APPLE-RADIUS=100;X-TITLE=Köln:geo:0,0
END:VEVENT
BEGIN:VTIMEZONE
TZID:Europe/Berlin
X-LIC-LOCATION:Europe/Berlin
BEGIN:DAYLIGHT
DTSTART:20250330T030000
TZOFFSETFROM:+0100
TZOFFSETTO:+0200
TZNAME:CEST
END:DAYLIGHT
END:VTIMEZONE
END:VCALENDAR