BEGIN:VCALENDAR
VERSION:2.0
PRODID:-//wp-events-plugin.com//7.2.3.1//EN
TZID:Europe/Berlin
X-WR-TIMEZONE:Europe/Berlin
BEGIN:VEVENT
UID:141@tonart-mittelrhein.de
DTSTART;TZID=Europe/Berlin:20260109T190000
DTEND;TZID=Europe/Berlin:20260109T230000
DTSTAMP:20251204T012457Z
URL:https://www.tonart-mittelrhein.de/veranstaltungen/jahresabschluss/
SUMMARY:Jahresabschluss
DESCRIPTION:
CATEGORIES:sonstige Termine
LOCATION:Weingut Walter Perll\, Boppard\, Oberstraße 58a\, Boppard\, 56154
 \, Deutschland
X-APPLE-STRUCTURED-LOCATION;VALUE=URI;X-ADDRESS=Oberstraße 58a\, Boppard\,
  56154\, Deutschland;X-APPLE-RADIUS=100;X-TITLE=Weingut Walter Perll\, Bop
 pard:geo:0,0
END:VEVENT
BEGIN:VTIMEZONE
TZID:Europe/Berlin
X-LIC-LOCATION:Europe/Berlin
BEGIN:STANDARD
DTSTART:20251026T020000
TZOFFSETFROM:+0200
TZOFFSETTO:+0100
TZNAME:CET
END:STANDARD
END:VTIMEZONE
END:VCALENDAR