BEGIN:VCALENDAR
VERSION:2.0
PRODID:-//wp-events-plugin.com//7.2.3.1//EN
TZID:Europe/Berlin
X-WR-TIMEZONE:Europe/Berlin
BEGIN:VEVENT
UID:67@tonart-mittelrhein.de
DTSTART;TZID=Europe/Berlin:20250124T190000
DTEND;TZID=Europe/Berlin:20250124T230000
DTSTAMP:20250102T134056Z
URL:https://www.tonart-mittelrhein.de/veranstaltungen/jahresabschluss-esse
 n/
SUMMARY:Jahresabschluss-Essen
DESCRIPTION:Wie in jedem Jahr\, so treffen wir uns auch in diesem mit unser
 en Partner*innen zu einem gemütlichen Jahresabschluss-Essen. Mit Lissy Pe
 rll haben wir eine Gastgeberin gefunden\, auf deren Speisen und Getränke 
 wir uns schon jetzt sehr freuen!
CATEGORIES:sonstige Termine
LOCATION:Weingut Walter Perll\, Boppard\, Oberstraße 58a\, Boppard\, 56154
 \, Deutschland
X-APPLE-STRUCTURED-LOCATION;VALUE=URI;X-ADDRESS=Oberstraße 58a\, Boppard\,
  56154\, Deutschland;X-APPLE-RADIUS=100;X-TITLE=Weingut Walter Perll\, Bop
 pard:geo:0,0
END:VEVENT
BEGIN:VTIMEZONE
TZID:Europe/Berlin
X-LIC-LOCATION:Europe/Berlin
BEGIN:STANDARD
DTSTART:20241027T020000
TZOFFSETFROM:+0200
TZOFFSETTO:+0100
TZNAME:CET
END:STANDARD
END:VTIMEZONE
END:VCALENDAR