BEGIN:VCALENDAR
VERSION:2.0
PRODID:-//wp-events-plugin.com//7.2.3.1//EN
TZID:Europe/Berlin
X-WR-TIMEZONE:Europe/Berlin
BEGIN:VEVENT
UID:71@tonart-mittelrhein.de
DTSTART;TZID=Europe/Berlin:20250504T140000
DTEND;TZID=Europe/Berlin:20250504T170000
DTSTAMP:20250212T113956Z
URL:https://www.tonart-mittelrhein.de/veranstaltungen/fruehlingskonzert-be
 im-frauenchor-heideklang-buchholz/
SUMMARY:Frühlingskonzert beim Frauenchor Heideklang Buchholz
DESCRIPTION:Nachdem wir dem phantastischen Frauenchor Heideklang aus Buchho
 lz beim letzten Mal leider krankheitsbedingt absagen mussten\, freuen wir 
 uns ganz besonders\, dass es in diesem Jahr klappen wird! Am Sonntag\, dem
  4. Mai 2025\, nehmen die Sangesfreunde TonArt Mittelrhein am Frühlingsko
 nzert der Damen teil\, und wir sind bereits heute gespannt darauf\, welche
  musikalischen Leckereien uns dort erwarten werden!
CATEGORIES:Auftritt
END:VEVENT
BEGIN:VTIMEZONE
TZID:Europe/Berlin
X-LIC-LOCATION:Europe/Berlin
BEGIN:DAYLIGHT
DTSTART:20250330T030000
TZOFFSETFROM:+0100
TZOFFSETTO:+0200
TZNAME:CEST
END:DAYLIGHT
END:VTIMEZONE
END:VCALENDAR