BEGIN:VCALENDAR
VERSION:2.0
PRODID:-//wp-events-plugin.com//7.2.3.1//EN
TZID:Europe/Berlin
X-WR-TIMEZONE:Europe/Berlin
BEGIN:VEVENT
UID:68@tonart-mittelrhein.de
DTSTART;TZID=Europe/Berlin:20250517T193000
DTEND;TZID=Europe/Berlin:20250517T220000
DTSTAMP:20250107T164544Z
URL:https://www.tonart-mittelrhein.de/veranstaltungen/fruehlings-singen-hi
 rzenach/
SUMMARY:Frühlings-Singen Hirzenach
DESCRIPTION:\n\nUnsere Freunde vom Quartettverein Liederkranz Hirzenach  l
 aden herzlich zum gemeinsamen Frühlings-Singen ins Tempushaus ein - diese
 r Einladung folgen wir mehr als gerne\, da uns mit der südlichsten Boppar
 der Vorstadt eine tiefe Verbundenheit und Freundschaft verbindet.\n\nViell
 eicht hat ja auch jemand von euch Lust\, einen schönen Abend im schönen 
 Hirzenach zu verbringen?!?
CATEGORIES:Auftritt
LOCATION:Tempushaus Hirzenach\, Rheinuferstraße\, Hirzenach\, 56154\, Deut
 schland
X-APPLE-STRUCTURED-LOCATION;VALUE=URI;X-ADDRESS=Rheinuferstraße\, Hirzenac
 h\, 56154\, Deutschland;X-APPLE-RADIUS=100;X-TITLE=Tempushaus Hirzenach:ge
 o:0,0
END:VEVENT
BEGIN:VTIMEZONE
TZID:Europe/Berlin
X-LIC-LOCATION:Europe/Berlin
BEGIN:DAYLIGHT
DTSTART:20250330T030000
TZOFFSETFROM:+0100
TZOFFSETTO:+0200
TZNAME:CEST
END:DAYLIGHT
END:VTIMEZONE
END:VCALENDAR