BEGIN:VCALENDAR
VERSION:2.0
PRODID:-//wp-events-plugin.com//7.2.3.1//EN
TZID:Europe/Berlin
X-WR-TIMEZONE:Europe/Berlin
BEGIN:VEVENT
UID:4@tonart-mittelrhein.de
DTSTART;TZID=Europe/Berlin:20241118T193000
DTEND;TZID=Europe/Berlin:20241118T213000
DTSTAMP:20241119T132710Z
URL:https://www.tonart-mittelrhein.de/veranstaltungen/chorprobe-2024-11-18
 /
SUMMARY:Jahreshauptversammlung
DESCRIPTION:
CATEGORIES:sonstige Termine
LOCATION:Altes Rathaus Boppard\, Am Markt\, Boppard\, 56154\, Deutschland
X-APPLE-STRUCTURED-LOCATION;VALUE=URI;X-ADDRESS=Am Markt\, Boppard\, 56154\
 , Deutschland;X-APPLE-RADIUS=100;X-TITLE=Altes Rathaus Boppard:geo:0,0
END:VEVENT
BEGIN:VTIMEZONE
TZID:Europe/Berlin
X-LIC-LOCATION:Europe/Berlin
BEGIN:STANDARD
DTSTART:20241027T020000
TZOFFSETFROM:+0200
TZOFFSETTO:+0100
TZNAME:CET
END:STANDARD
END:VTIMEZONE
END:VCALENDAR